BEGIN:VCALENDAR
VERSION:2.0
PRODID:-//KeithKoo.com - ECPv6.15.12.2//NONSGML v1.0//EN
CALSCALE:GREGORIAN
METHOD:PUBLISH
X-WR-CALNAME:KeithKoo.com
X-ORIGINAL-URL:https://www.keithkoo.com
X-WR-CALDESC:Events for KeithKoo.com
REFRESH-INTERVAL;VALUE=DURATION:PT1H
X-Robots-Tag:noindex
X-PUBLISHED-TTL:PT1H
BEGIN:VTIMEZONE
TZID:America/Los_Angeles
BEGIN:DAYLIGHT
TZOFFSETFROM:-0800
TZOFFSETTO:-0700
TZNAME:PDT
DTSTART:20220313T100000
END:DAYLIGHT
BEGIN:STANDARD
TZOFFSETFROM:-0700
TZOFFSETTO:-0800
TZNAME:PST
DTSTART:20221106T090000
END:STANDARD
BEGIN:DAYLIGHT
TZOFFSETFROM:-0800
TZOFFSETTO:-0700
TZNAME:PDT
DTSTART:20230312T100000
END:DAYLIGHT
BEGIN:STANDARD
TZOFFSETFROM:-0700
TZOFFSETTO:-0800
TZNAME:PST
DTSTART:20231105T090000
END:STANDARD
BEGIN:DAYLIGHT
TZOFFSETFROM:-0800
TZOFFSETTO:-0700
TZNAME:PDT
DTSTART:20240310T100000
END:DAYLIGHT
BEGIN:STANDARD
TZOFFSETFROM:-0700
TZOFFSETTO:-0800
TZNAME:PST
DTSTART:20241103T090000
END:STANDARD
END:VTIMEZONE
BEGIN:VEVENT
DTSTART;TZID=America/Los_Angeles:20230530T173000
DTEND;TZID=America/Los_Angeles:20230530T203000
DTSTAMP:20260424T172932
CREATED:20230516T122839Z
LAST-MODIFIED:20230608T201943Z
UID:36908-1685467800-1685478600@www.keithkoo.com
SUMMARY:The AI Revolution: How it Will Impact You and Your Work?
DESCRIPTION:Event Title: The AI Revolution: How it Will Impact you and your work? \nDate: May 30\, 2023 \nTime: 5:30 PM – 8:30 PM \nLocation: NTT Experience Center\, San Francisco\, CA \nCost: Free \nDescription: \nArtificial intelligence (AI) is rapidly changing the world\, and it’s important to understand how it will impact your work and IP. This event will explore the latest trends in AI\, the challenges and opportunities it presents\, and how individuals and businesses can prepare for the future. \nSome of the most common concerns on GenAI include: job displacement\, IP theft\, bias\, privacy and security. We will touch on each of these areas and more. \nThe event will feature leading experts\, including: \nSoyeun Choi\, Esq.. IP expert \nKeith Koo\, Host of Silicon Valley Insider Radio\, Investment Banker and VC \nVito Mabrucco\, Global CMO\, NTT Global \nMegan Dahlgren\, VP of Marketing\, NTT Global & Leader of the NTT XC \nChris Shaw\, CMO\, NTT Research \nThe event will also include an interactive panel discussion with the audience. \nAgenda: \n5:30 PM – 6:00 PM: Check-In \n6:00 PM – 6:15 PM Welcome and introductions by the NTT Execs \n6:15 PM – 7:30 PM: Interactive Panel: The AI Revolution \n7:30 PM – 8:30 PM : Open Networking \nSpeaker Bios: \nKeith Koo is the host of Silicon Valley Insider\, a podcast that covers the latest news and trends in Silicon Valley. Keith has over three decades of experience in the technology\, consulting\, and investment industry\, and he has held senior positions at companies such as Cisco\, HPE\, Inuit and MUFG. \nSoyeun Choi\, Esq. is seasoned attorney and an expert in IP and IP litigation. Soyeun has over two decades of experience in IP law\, and she is a former chair of the California Bar Association – Business Law section. Soyeun is also the general counsel to the Asian Business League. \nVito Mabrucco is the Global CMO of NTT Global. He is responsible for leading the company’s global marketing strategy and execution. Vito has been featured in the Wall Street Journal and Forbes and has held senior positions at companies such as IDC and Cisco. \nMegan Dahlgren is the VP of Marketing at NTT Global. She is responsible for leading the company’s global brand presence in the NTT XC (Experience Center) and she has held senior positions at companies such as IDC\, SpringML and Currance. \nChris Shaw is the CMO of NTT Research. He is responsible for leading the company’s marketing and communications efforts. Chris founded and ran Centra Coast Agency for over 15 years prior to joining NTT Research. \nWe hope to see you there! \n*Light Refreshments Will be Provided* \n  \nPlease enable JavaScript in your browser to complete this form.Name *FirstLastEmail *Mobile *Company *Title *I will attend the following session: *Tues May 30th 5:30-8:30pm AI Panel and Networking EventDid someone refer you? *YESNoPerson Who Referred You *CCPA+GDPR Agreement *I consent to having this website store my submitted information so they can respond to my inquiry.Submit
URL:https://www.keithkoo.com/event/airevolution/
LOCATION:NTT XC\, 690 Folsom Street\, San Francisco\, United States
ATTACH;FMTTYPE=image/png:https://www.keithkoo.com/wp-content/uploads/2023/05/Prof-Dev-NTT-AI-2.png
ORGANIZER;CN="Keith Koo":MAILTO:keith@gigsv.com
END:VEVENT
END:VCALENDAR